BEGIN:VCALENDAR
VERSION:2.0
PRODID:-//Buena Vista Public Library - ECPv6.15.20//NONSGML v1.0//EN
CALSCALE:GREGORIAN
METHOD:PUBLISH
X-WR-CALNAME:Buena Vista Public Library
X-ORIGINAL-URL:https://buenavistalibrary.org
X-WR-CALDESC:Events for Buena Vista Public Library
REFRESH-INTERVAL;VALUE=DURATION:PT1H
X-Robots-Tag:noindex
X-PUBLISHED-TTL:PT1H
BEGIN:VTIMEZONE
TZID:America/Denver
BEGIN:DAYLIGHT
TZOFFSETFROM:-0700
TZOFFSETTO:-0600
TZNAME:MDT
DTSTART:20210314T090000
END:DAYLIGHT
BEGIN:STANDARD
TZOFFSETFROM:-0600
TZOFFSETTO:-0700
TZNAME:MST
DTSTART:20211107T080000
END:STANDARD
BEGIN:DAYLIGHT
TZOFFSETFROM:-0700
TZOFFSETTO:-0600
TZNAME:MDT
DTSTART:20220313T090000
END:DAYLIGHT
BEGIN:STANDARD
TZOFFSETFROM:-0600
TZOFFSETTO:-0700
TZNAME:MST
DTSTART:20221106T080000
END:STANDARD
BEGIN:DAYLIGHT
TZOFFSETFROM:-0700
TZOFFSETTO:-0600
TZNAME:MDT
DTSTART:20230312T090000
END:DAYLIGHT
BEGIN:STANDARD
TZOFFSETFROM:-0600
TZOFFSETTO:-0700
TZNAME:MST
DTSTART:20231105T080000
END:STANDARD
BEGIN:DAYLIGHT
TZOFFSETFROM:-0700
TZOFFSETTO:-0600
TZNAME:MDT
DTSTART:20240310T090000
END:DAYLIGHT
BEGIN:STANDARD
TZOFFSETFROM:-0600
TZOFFSETTO:-0700
TZNAME:MST
DTSTART:20241103T080000
END:STANDARD
BEGIN:DAYLIGHT
TZOFFSETFROM:-0700
TZOFFSETTO:-0600
TZNAME:MDT
DTSTART:20250309T090000
END:DAYLIGHT
BEGIN:STANDARD
TZOFFSETFROM:-0600
TZOFFSETTO:-0700
TZNAME:MST
DTSTART:20251102T080000
END:STANDARD
BEGIN:DAYLIGHT
TZOFFSETFROM:-0700
TZOFFSETTO:-0600
TZNAME:MDT
DTSTART:20260308T090000
END:DAYLIGHT
BEGIN:STANDARD
TZOFFSETFROM:-0600
TZOFFSETTO:-0700
TZNAME:MST
DTSTART:20261101T080000
END:STANDARD
BEGIN:DAYLIGHT
TZOFFSETFROM:-0700
TZOFFSETTO:-0600
TZNAME:MDT
DTSTART:20270314T090000
END:DAYLIGHT
BEGIN:STANDARD
TZOFFSETFROM:-0600
TZOFFSETTO:-0700
TZNAME:MST
DTSTART:20271107T080000
END:STANDARD
END:VTIMEZONE
BEGIN:VEVENT
DTSTART;TZID=America/Denver:20220921T100000
DTEND;TZID=America/Denver:20220921T110000
DTSTAMP:20260420T220354
CREATED:20220809T180408Z
LAST-MODIFIED:20221026T160936Z
UID:5334-1663754400-1663758000@buenavistalibrary.org
SUMMARY:Animal Crackers
DESCRIPTION:Salida Circus brings its fun to Buena Vista! Children learn stretching\, games\, and circus skills which aid in developing strong self-esteem.  \nAudience: Ages 2-5
URL:https://buenavistalibrary.org/event/animal-crackers/
LOCATION:Buena Vista Public Library\, 131 Linderman Ave\, Buena Vista\, CO\, 81211\, United States
CATEGORIES:Youth
ATTACH;FMTTYPE=image/png:https://buenavistalibrary.org/wp-content/uploads/2021/08/Animal-Crackers-Graphic.png
END:VEVENT
BEGIN:VEVENT
DTSTART;TZID=America/Denver:20220921T100000
DTEND;TZID=America/Denver:20220921T110000
DTSTAMP:20260420T220354
CREATED:20220809T180408Z
LAST-MODIFIED:20221026T160936Z
UID:5334-1663754400-1663758000@buenavistalibrary.org
SUMMARY:Animal Crackers
DESCRIPTION:Salida Circus brings its fun to Buena Vista! Children learn stretching\, games\, and circus skills which aid in developing strong self-esteem.  \nAudience: Ages 2-5
URL:https://buenavistalibrary.org/event/animal-crackers/
LOCATION:Buena Vista Public Library\, 131 Linderman Ave\, Buena Vista\, CO\, 81211\, United States
CATEGORIES:Youth
ATTACH;FMTTYPE=image/png:https://buenavistalibrary.org/wp-content/uploads/2021/08/Animal-Crackers-Graphic.png
END:VEVENT
BEGIN:VEVENT
DTSTART;TZID=America/Denver:20221011T100000
DTEND;TZID=America/Denver:20221011T110000
DTSTAMP:20260420T220354
CREATED:20220912T165741Z
LAST-MODIFIED:20230405T222542Z
UID:5441-1665482400-1665486000@buenavistalibrary.org
SUMMARY:Bilingual Yoga
DESCRIPTION:Cultivate a connection of body\, mind\, and spirit through yoga. Calm your mind and enjoy feel-good movement. Guidance provided in English and Spanish – yoga for your brain! ¡Esperamos que te unas a nosotros!
URL:https://buenavistalibrary.org/event/bilingual-yoga/
LOCATION:Buena Vista Public Library\, 131 Linderman Ave\, Buena Vista\, CO\, 81211\, United States
CATEGORIES:Adult
END:VEVENT
BEGIN:VEVENT
DTSTART;TZID=America/Denver:20220921T100000
DTEND;TZID=America/Denver:20220921T110000
DTSTAMP:20260420T220354
CREATED:20220809T180408Z
LAST-MODIFIED:20221026T160936Z
UID:5334-1663754400-1663758000@buenavistalibrary.org
SUMMARY:Animal Crackers
DESCRIPTION:Salida Circus brings its fun to Buena Vista! Children learn stretching\, games\, and circus skills which aid in developing strong self-esteem.  \nAudience: Ages 2-5
URL:https://buenavistalibrary.org/event/animal-crackers/
LOCATION:Buena Vista Public Library\, 131 Linderman Ave\, Buena Vista\, CO\, 81211\, United States
CATEGORIES:Youth
ATTACH;FMTTYPE=image/png:https://buenavistalibrary.org/wp-content/uploads/2021/08/Animal-Crackers-Graphic.png
END:VEVENT
BEGIN:VEVENT
DTSTART;TZID=America/Denver:20221011T100000
DTEND;TZID=America/Denver:20221011T110000
DTSTAMP:20260420T220354
CREATED:20220912T165741Z
LAST-MODIFIED:20230405T222542Z
UID:5441-1665482400-1665486000@buenavistalibrary.org
SUMMARY:Bilingual Yoga
DESCRIPTION:Cultivate a connection of body\, mind\, and spirit through yoga. Calm your mind and enjoy feel-good movement. Guidance provided in English and Spanish – yoga for your brain! ¡Esperamos que te unas a nosotros!
URL:https://buenavistalibrary.org/event/bilingual-yoga/
LOCATION:Buena Vista Public Library\, 131 Linderman Ave\, Buena Vista\, CO\, 81211\, United States
CATEGORIES:Adult
END:VEVENT
BEGIN:VEVENT
DTSTART;TZID=America/Denver:20221022T100000
DTEND;TZID=America/Denver:20221022T120000
DTSTAMP:20260420T220354
CREATED:20220921T160928Z
LAST-MODIFIED:20221122T165520Z
UID:5469-1666432800-1666440000@buenavistalibrary.org
SUMMARY:Beginner Ukulele
DESCRIPTION:Learn to play the ukulele in this 4-week skill building class\, then hang around for the kanikapila (jam session) after! Class: 10:00—11:00 a.m. Jam Session: 11:00 a.m.—12:00 p.m. No instrument? Borrow a ukulele from the Library.
URL:https://buenavistalibrary.org/event/beginner-ukulele/
LOCATION:Buena Vista Public Library\, 131 Linderman Ave\, Buena Vista\, CO\, 81211\, United States
CATEGORIES:Adult
END:VEVENT
BEGIN:VEVENT
DTSTART;TZID=America/Denver:20221011T100000
DTEND;TZID=America/Denver:20221011T110000
DTSTAMP:20260420T220354
CREATED:20220912T165741Z
LAST-MODIFIED:20230405T222542Z
UID:5441-1665482400-1665486000@buenavistalibrary.org
SUMMARY:Bilingual Yoga
DESCRIPTION:Cultivate a connection of body\, mind\, and spirit through yoga. Calm your mind and enjoy feel-good movement. Guidance provided in English and Spanish – yoga for your brain! ¡Esperamos que te unas a nosotros!
URL:https://buenavistalibrary.org/event/bilingual-yoga/
LOCATION:Buena Vista Public Library\, 131 Linderman Ave\, Buena Vista\, CO\, 81211\, United States
CATEGORIES:Adult
END:VEVENT
BEGIN:VEVENT
DTSTART;TZID=America/Denver:20221022T100000
DTEND;TZID=America/Denver:20221022T120000
DTSTAMP:20260420T220354
CREATED:20220921T160928Z
LAST-MODIFIED:20221122T165520Z
UID:5469-1666432800-1666440000@buenavistalibrary.org
SUMMARY:Beginner Ukulele
DESCRIPTION:Learn to play the ukulele in this 4-week skill building class\, then hang around for the kanikapila (jam session) after! Class: 10:00—11:00 a.m. Jam Session: 11:00 a.m.—12:00 p.m. No instrument? Borrow a ukulele from the Library.
URL:https://buenavistalibrary.org/event/beginner-ukulele/
LOCATION:Buena Vista Public Library\, 131 Linderman Ave\, Buena Vista\, CO\, 81211\, United States
CATEGORIES:Adult
END:VEVENT
BEGIN:VEVENT
DTSTART;TZID=America/Denver:20221022T100000
DTEND;TZID=America/Denver:20221022T120000
DTSTAMP:20260420T220354
CREATED:20220921T160928Z
LAST-MODIFIED:20221122T165520Z
UID:5469-1666432800-1666440000@buenavistalibrary.org
SUMMARY:Beginner Ukulele
DESCRIPTION:Learn to play the ukulele in this 4-week skill building class\, then hang around for the kanikapila (jam session) after! Class: 10:00—11:00 a.m. Jam Session: 11:00 a.m.—12:00 p.m. No instrument? Borrow a ukulele from the Library.
URL:https://buenavistalibrary.org/event/beginner-ukulele/
LOCATION:Buena Vista Public Library\, 131 Linderman Ave\, Buena Vista\, CO\, 81211\, United States
CATEGORIES:Adult
END:VEVENT
BEGIN:VEVENT
DTSTART;TZID=America/Denver:20221011T100000
DTEND;TZID=America/Denver:20221011T110000
DTSTAMP:20260420T220354
CREATED:20220912T165741Z
LAST-MODIFIED:20230405T222542Z
UID:5441-1665482400-1665486000@buenavistalibrary.org
SUMMARY:Bilingual Yoga
DESCRIPTION:Cultivate a connection of body\, mind\, and spirit through yoga. Calm your mind and enjoy feel-good movement. Guidance provided in English and Spanish – yoga for your brain! ¡Esperamos que te unas a nosotros!
URL:https://buenavistalibrary.org/event/bilingual-yoga/
LOCATION:Buena Vista Public Library\, 131 Linderman Ave\, Buena Vista\, CO\, 81211\, United States
CATEGORIES:Adult
END:VEVENT
BEGIN:VEVENT
DTSTART;TZID=America/Denver:20221022T100000
DTEND;TZID=America/Denver:20221022T120000
DTSTAMP:20260420T220354
CREATED:20220921T160928Z
LAST-MODIFIED:20221122T165520Z
UID:5469-1666432800-1666440000@buenavistalibrary.org
SUMMARY:Beginner Ukulele
DESCRIPTION:Learn to play the ukulele in this 4-week skill building class\, then hang around for the kanikapila (jam session) after! Class: 10:00—11:00 a.m. Jam Session: 11:00 a.m.—12:00 p.m. No instrument? Borrow a ukulele from the Library.
URL:https://buenavistalibrary.org/event/beginner-ukulele/
LOCATION:Buena Vista Public Library\, 131 Linderman Ave\, Buena Vista\, CO\, 81211\, United States
CATEGORIES:Adult
END:VEVENT
BEGIN:VEVENT
DTSTART;TZID=America/Denver:20221011T100000
DTEND;TZID=America/Denver:20221011T110000
DTSTAMP:20260420T220354
CREATED:20220912T165741Z
LAST-MODIFIED:20230405T222542Z
UID:5441-1665482400-1665486000@buenavistalibrary.org
SUMMARY:Bilingual Yoga
DESCRIPTION:Cultivate a connection of body\, mind\, and spirit through yoga. Calm your mind and enjoy feel-good movement. Guidance provided in English and Spanish – yoga for your brain! ¡Esperamos que te unas a nosotros!
URL:https://buenavistalibrary.org/event/bilingual-yoga/
LOCATION:Buena Vista Public Library\, 131 Linderman Ave\, Buena Vista\, CO\, 81211\, United States
CATEGORIES:Adult
END:VEVENT
BEGIN:VEVENT
DTSTART;TZID=America/Denver:20221011T100000
DTEND;TZID=America/Denver:20221011T110000
DTSTAMP:20260420T220354
CREATED:20220912T165741Z
LAST-MODIFIED:20230405T222542Z
UID:5441-1665482400-1665486000@buenavistalibrary.org
SUMMARY:Bilingual Yoga
DESCRIPTION:Cultivate a connection of body\, mind\, and spirit through yoga. Calm your mind and enjoy feel-good movement. Guidance provided in English and Spanish – yoga for your brain! ¡Esperamos que te unas a nosotros!
URL:https://buenavistalibrary.org/event/bilingual-yoga/
LOCATION:Buena Vista Public Library\, 131 Linderman Ave\, Buena Vista\, CO\, 81211\, United States
CATEGORIES:Adult
END:VEVENT
BEGIN:VEVENT
DTSTART;TZID=America/Denver:20221011T100000
DTEND;TZID=America/Denver:20221011T110000
DTSTAMP:20260420T220354
CREATED:20220912T165741Z
LAST-MODIFIED:20230405T222542Z
UID:5441-1665482400-1665486000@buenavistalibrary.org
SUMMARY:Bilingual Yoga
DESCRIPTION:Cultivate a connection of body\, mind\, and spirit through yoga. Calm your mind and enjoy feel-good movement. Guidance provided in English and Spanish – yoga for your brain! ¡Esperamos que te unas a nosotros!
URL:https://buenavistalibrary.org/event/bilingual-yoga/
LOCATION:Buena Vista Public Library\, 131 Linderman Ave\, Buena Vista\, CO\, 81211\, United States
CATEGORIES:Adult
END:VEVENT
BEGIN:VEVENT
DTSTART;TZID=America/Denver:20221011T100000
DTEND;TZID=America/Denver:20221011T110000
DTSTAMP:20260420T220354
CREATED:20220912T165741Z
LAST-MODIFIED:20230405T222542Z
UID:5441-1665482400-1665486000@buenavistalibrary.org
SUMMARY:Bilingual Yoga
DESCRIPTION:Cultivate a connection of body\, mind\, and spirit through yoga. Calm your mind and enjoy feel-good movement. Guidance provided in English and Spanish – yoga for your brain! ¡Esperamos que te unas a nosotros!
URL:https://buenavistalibrary.org/event/bilingual-yoga/
LOCATION:Buena Vista Public Library\, 131 Linderman Ave\, Buena Vista\, CO\, 81211\, United States
CATEGORIES:Adult
END:VEVENT
BEGIN:VEVENT
DTSTART;TZID=America/Denver:20221011T100000
DTEND;TZID=America/Denver:20221011T110000
DTSTAMP:20260420T220354
CREATED:20220912T165741Z
LAST-MODIFIED:20230405T222542Z
UID:5441-1665482400-1665486000@buenavistalibrary.org
SUMMARY:Bilingual Yoga
DESCRIPTION:Cultivate a connection of body\, mind\, and spirit through yoga. Calm your mind and enjoy feel-good movement. Guidance provided in English and Spanish – yoga for your brain! ¡Esperamos que te unas a nosotros!
URL:https://buenavistalibrary.org/event/bilingual-yoga/
LOCATION:Buena Vista Public Library\, 131 Linderman Ave\, Buena Vista\, CO\, 81211\, United States
CATEGORIES:Adult
END:VEVENT
BEGIN:VEVENT
DTSTART;TZID=America/Denver:20221011T100000
DTEND;TZID=America/Denver:20221011T110000
DTSTAMP:20260420T220354
CREATED:20220912T165741Z
LAST-MODIFIED:20230405T222542Z
UID:5441-1665482400-1665486000@buenavistalibrary.org
SUMMARY:Bilingual Yoga
DESCRIPTION:Cultivate a connection of body\, mind\, and spirit through yoga. Calm your mind and enjoy feel-good movement. Guidance provided in English and Spanish – yoga for your brain! ¡Esperamos que te unas a nosotros!
URL:https://buenavistalibrary.org/event/bilingual-yoga/
LOCATION:Buena Vista Public Library\, 131 Linderman Ave\, Buena Vista\, CO\, 81211\, United States
CATEGORIES:Adult
END:VEVENT
BEGIN:VEVENT
DTSTART;TZID=America/Denver:20260320T100000
DTEND;TZID=America/Denver:20260320T110000
DTSTAMP:20260420T220354
CREATED:20260206T130124Z
LAST-MODIFIED:20260218T193950Z
UID:14000-1774000800-1774004400@buenavistalibrary.org
SUMMARY:Story Time
DESCRIPTION:Foster a love of books with story time\, music\, and art. Practice early literacy skills in this social environment.
URL:https://buenavistalibrary.org/event/story-time-2/
LOCATION:Buena Vista Public Library\, 131 Linderman Ave\, Buena Vista\, CO\, 81211\, United States
CATEGORIES:Youth
END:VEVENT
BEGIN:VEVENT
DTSTART;TZID=America/Denver:20260323T100000
DTEND;TZID=America/Denver:20260323T110000
DTSTAMP:20260420T220354
CREATED:20260204T184809Z
LAST-MODIFIED:20260204T184809Z
UID:13955-1774260000-1774263600@buenavistalibrary.org
SUMMARY:Tunes for Tots
DESCRIPTION:Discover music as foundation of early literacy. Rhythm\, matching pitch\, and call and response are all part of the fun. Build active listening and cognitive skills like memory and problem solving through pattern recognition.
URL:https://buenavistalibrary.org/event/tunes-for-tots/
LOCATION:Buena Vista Public Library\, 131 Linderman Ave\, Buena Vista\, CO\, 81211\, United States
CATEGORIES:Youth
END:VEVENT
BEGIN:VEVENT
DTSTART;TZID=America/Denver:20260323T120000
DTEND;TZID=America/Denver:20260323T130000
DTSTAMP:20260420T220354
CREATED:20260206T000634Z
LAST-MODIFIED:20260206T000634Z
UID:13963-1774267200-1774270800@buenavistalibrary.org
SUMMARY:Align & Flow Yoga
DESCRIPTION:Find strength\, stillness\, and peace in this all-level yoga class.
URL:https://buenavistalibrary.org/event/align-flow-yoga-9/
LOCATION:Buena Vista Public Library\, 131 Linderman Ave\, Buena Vista\, CO\, 81211\, United States
CATEGORIES:Adult
END:VEVENT
BEGIN:VEVENT
DTSTART;TZID=America/Denver:20260323T153000
DTEND;TZID=America/Denver:20260323T163000
DTSTAMP:20260420T220354
CREATED:20260206T121836Z
LAST-MODIFIED:20260206T121836Z
UID:13973-1774279800-1774283400@buenavistalibrary.org
SUMMARY:Kids Quest
DESCRIPTION:Build new skills while exploring movement\, teamwork\, and problem solving challenges\, and learn with guest facilitators.
URL:https://buenavistalibrary.org/event/kids-quest/
LOCATION:Buena Vista Public Library\, 131 Linderman Ave\, Buena Vista\, CO\, 81211\, United States
CATEGORIES:Youth
END:VEVENT
BEGIN:VEVENT
DTSTART;TZID=America/Denver:20260324T153000
DTEND;TZID=America/Denver:20260324T163000
DTSTAMP:20260420T220354
CREATED:20260206T121437Z
LAST-MODIFIED:20260206T121437Z
UID:13969-1774366200-1774369800@buenavistalibrary.org
SUMMARY:Art for Kids
DESCRIPTION:Create a painting in these free art sessions. All supplies provided. Parents or caretakers are welcome to participate.
URL:https://buenavistalibrary.org/event/art-for-kids-2/
LOCATION:Buena Vista Public Library\, 131 Linderman Ave\, Buena Vista\, CO\, 81211\, United States
CATEGORIES:Youth
END:VEVENT
BEGIN:VEVENT
DTSTART;TZID=America/Denver:20260325T130000
DTEND;TZID=America/Denver:20260325T140000
DTSTAMP:20260420T220354
CREATED:20260206T130627Z
LAST-MODIFIED:20260304T224219Z
UID:14006-1774443600-1774447200@buenavistalibrary.org
SUMMARY:Digital Smart: Explore Udemy
DESCRIPTION:Expand your digital literacy\, gain knowledge and research skills in a 7-week beginner friendly workshop series. \n\nMarch 18: Streaming with Kanopy\nMarch 25: Explore Udemy Free Online Courses\nApril 1: Digital Newspapers\nApril 8: Libby eBooks and magazines\nApril 15: Gale Research Databases\nApril 22: Artificial Intelligence (AI)\nApril 29: Cybersecurity
URL:https://buenavistalibrary.org/event/digital-smart-2/
LOCATION:Buena Vista Public Library\, 131 Linderman Ave\, Buena Vista\, CO\, 81211\, United States
CATEGORIES:Adult
END:VEVENT
BEGIN:VEVENT
DTSTART;TZID=America/Denver:20260326T130000
DTEND;TZID=America/Denver:20260326T150000
DTSTAMP:20260420T220354
CREATED:20260206T130836Z
LAST-MODIFIED:20260219T230430Z
UID:14008-1774530000-1774537200@buenavistalibrary.org
SUMMARY:Watercolor: Frolicking Figures
DESCRIPTION:Arrange and trace figurative stencils (provided\, or bring your own stencils & drawings) into expressive compositions of figurative relationships\, and then play with the free-flowing fluidity of watercolors. This is an invitation to immerse in the joy of color mixing and experimenting\, allowing water to be your co-creator. Registration required. Limit 12.
URL:https://buenavistalibrary.org/event/watercolor-frolicking-figures/
LOCATION:Buena Vista Public Library\, 131 Linderman Ave\, Buena Vista\, CO\, 81211\, United States
CATEGORIES:Adult
END:VEVENT
BEGIN:VEVENT
DTSTART;TZID=America/Denver:20260326T160000
DTEND;TZID=America/Denver:20260326T180000
DTSTAMP:20260420T220354
CREATED:20260206T125629Z
LAST-MODIFIED:20260223T191427Z
UID:13998-1774540800-1774548000@buenavistalibrary.org
SUMMARY:Makers Lab: Cricut Crafts
DESCRIPTION:Create a tote bag and stickers using Cricut software and equipment. All supplies provided.
URL:https://buenavistalibrary.org/event/makers-lab-3/
LOCATION:Buena Vista Public Library\, 131 Linderman Ave\, Buena Vista\, CO\, 81211\, United States
CATEGORIES:Adult,Teen
END:VEVENT
BEGIN:VEVENT
DTSTART;TZID=America/Denver:20260326T163000
DTEND;TZID=America/Denver:20260326T180000
DTSTAMP:20260420T220354
CREATED:20260206T124845Z
LAST-MODIFIED:20260326T212017Z
UID:13991-1774542600-1774548000@buenavistalibrary.org
SUMMARY:Great Decisions
DESCRIPTION:https://buenavistalibrary.org/wp-content/uploads/2026/02/4._nuclear_proliferation-1080p.mp4\nTake part in America’s largest discussion program on world affairs. Participants read the Great Decisions Briefing Book\, then meet with members of their community to watch a video and discuss critical global issues. \nFeb. 12: Trump Tariffs and the Future of the World Economy\nFeb 26: U.S.-China Relations\nMar. 12: Ruptured Alliances and the Risk of Nuclear Proliferation\nMar. 26: Ukraine and the Future of European Security\nApr. 9: Multilateral Institutions in a Changing World Order\nApr. 23: U.S. Engagement of Africa\nMay 14: The Future of Human Rights and International Law
URL:https://buenavistalibrary.org/event/great-decisions-4/
LOCATION:Buena Vista Public Library\, 131 Linderman Ave\, Buena Vista\, CO\, 81211\, United States
CATEGORIES:Adult
END:VEVENT
BEGIN:VEVENT
DTSTART;TZID=America/Denver:20260327T100000
DTEND;TZID=America/Denver:20260327T110000
DTSTAMP:20260420T220354
CREATED:20260206T130158Z
LAST-MODIFIED:20260218T193910Z
UID:14002-1774605600-1774609200@buenavistalibrary.org
SUMMARY:Story Time
DESCRIPTION:Foster a love of books with story time\, music\, and art. Practice early literacy skills in this social environment.
URL:https://buenavistalibrary.org/event/story-time-3/
LOCATION:Buena Vista Public Library\, 131 Linderman Ave\, Buena Vista\, CO\, 81211\, United States
CATEGORIES:Youth
END:VEVENT
BEGIN:VEVENT
DTSTART;TZID=America/Denver:20260330T100000
DTEND;TZID=America/Denver:20260330T110000
DTSTAMP:20260420T220354
CREATED:20260206T131121Z
LAST-MODIFIED:20260323T180544Z
UID:14010-1774864800-1774868400@buenavistalibrary.org
SUMMARY:Tunes for Tots Ages 3-5
DESCRIPTION:Discover music as foundation of early literacy. Rhythm\, matching pitch\, and call and response are all part of the fun. Build active listening and cognitive skills like memory and problem solving through pattern recognition.
URL:https://buenavistalibrary.org/event/tunes-for-tots-2/
LOCATION:Buena Vista Public Library\, 131 Linderman Ave\, Buena Vista\, CO\, 81211\, United States
CATEGORIES:Youth
END:VEVENT
BEGIN:VEVENT
DTSTART;TZID=America/Denver:20260330T120000
DTEND;TZID=America/Denver:20260330T130000
DTSTAMP:20260420T220354
CREATED:20260206T000900Z
LAST-MODIFIED:20260206T000900Z
UID:13965-1774872000-1774875600@buenavistalibrary.org
SUMMARY:Align & Flow Yoga
DESCRIPTION:Find strength\, stillness\, and peace in this all-level yoga class.
URL:https://buenavistalibrary.org/event/align-flow-yoga-10/
LOCATION:Buena Vista Public Library\, 131 Linderman Ave\, Buena Vista\, CO\, 81211\, United States
CATEGORIES:Adult
END:VEVENT
BEGIN:VEVENT
DTSTART;TZID=America/Denver:20260330T153000
DTEND;TZID=America/Denver:20260330T163000
DTSTAMP:20260420T220354
CREATED:20260206T121950Z
LAST-MODIFIED:20260206T121950Z
UID:13975-1774884600-1774888200@buenavistalibrary.org
SUMMARY:Kids Quest
DESCRIPTION:Build new skills while exploring movement\, teamwork\, and problem solving challenges\, and learn with guest facilitators.
URL:https://buenavistalibrary.org/event/kids-quest-2/
LOCATION:Buena Vista Public Library\, 131 Linderman Ave\, Buena Vista\, CO\, 81211\, United States
CATEGORIES:Youth
END:VEVENT
END:VCALENDAR